BEGIN:VCALENDAR
VERSION:2.0
PRODID:-//Montessori Lüneburg - Kinderhaus Schule und Hort - ECPv6.15.20//NONSGML v1.0//EN
CALSCALE:GREGORIAN
METHOD:PUBLISH
X-WR-CALNAME:Montessori Lüneburg - Kinderhaus Schule und Hort
X-ORIGINAL-URL:https://montessori-lueneburg.de
X-WR-CALDESC:Veranstaltungen für Montessori Lüneburg - Kinderhaus Schule und Hort
REFRESH-INTERVAL;VALUE=DURATION:PT1H
X-Robots-Tag:noindex
X-PUBLISHED-TTL:PT1H
BEGIN:VTIMEZONE
TZID:Europe/Berlin
BEGIN:DAYLIGHT
TZOFFSETFROM:+0100
TZOFFSETTO:+0200
TZNAME:CEST
DTSTART:20230326T010000
END:DAYLIGHT
BEGIN:STANDARD
TZOFFSETFROM:+0200
TZOFFSETTO:+0100
TZNAME:CET
DTSTART:20231029T010000
END:STANDARD
BEGIN:DAYLIGHT
TZOFFSETFROM:+0100
TZOFFSETTO:+0200
TZNAME:CEST
DTSTART:20240331T010000
END:DAYLIGHT
BEGIN:STANDARD
TZOFFSETFROM:+0200
TZOFFSETTO:+0100
TZNAME:CET
DTSTART:20241027T010000
END:STANDARD
BEGIN:DAYLIGHT
TZOFFSETFROM:+0100
TZOFFSETTO:+0200
TZNAME:CEST
DTSTART:20250330T010000
END:DAYLIGHT
BEGIN:STANDARD
TZOFFSETFROM:+0200
TZOFFSETTO:+0100
TZNAME:CET
DTSTART:20251026T010000
END:STANDARD
END:VTIMEZONE
BEGIN:VEVENT
DTSTART;VALUE=DATE:20241101
DTEND;VALUE=DATE:20241102
DTSTAMP:20260423T203458
CREATED:20240627T140022Z
LAST-MODIFIED:20240627T140022Z
UID:5658-1730419200-1730505599@montessori-lueneburg.de
SUMMARY:Haus der Kinder - Geschlossen
DESCRIPTION:
URL:https://montessori-lueneburg.de/veranstaltung/haus-der-kinder-geschlossen-2/
END:VEVENT
BEGIN:VEVENT
DTSTART;TZID=Europe/Berlin:20241107T160000
DTEND;TZID=Europe/Berlin:20241107T170000
DTSTAMP:20260423T203458
CREATED:20240124T102721Z
LAST-MODIFIED:20241022T065221Z
UID:4849-1730995200-1730998800@montessori-lueneburg.de
SUMMARY:Haus der Kinder - Kennenlernnachmittag für interessierte Familien (ausgebucht)
DESCRIPTION:Leider sind keine Anmeldungen mehr möglch
URL:https://montessori-lueneburg.de/veranstaltung/haus-der-kinder-kennenlernnachmittag-fuer-interessierte-familien-nur-mit-anmeldung/
END:VEVENT
BEGIN:VEVENT
DTSTART;TZID=Europe/Berlin:20241109T100000
DTEND;TZID=Europe/Berlin:20241109T130000
DTSTAMP:20260423T203458
CREATED:20240124T102600Z
LAST-MODIFIED:20241106T074102Z
UID:4847-1731146400-1731157200@montessori-lueneburg.de
SUMMARY:Bildungshaus - Herbsteinsatz
DESCRIPTION:
URL:https://montessori-lueneburg.de/veranstaltung/haus-der-kinder-herbsteinsatz/
LOCATION:Montessori Haus der Kinder Lüneburg\, Margarete-Endemann-Weg 2/4\, Lüneburg\, 21335\, Deutschland
ORGANIZER;CN="Montessori Bildungshaus L%C3%BCneburg":MAILTO:stefanie.hauf@montessori-lueneburg.de
END:VEVENT
BEGIN:VEVENT
DTSTART;TZID=Europe/Berlin:20241115T163000
DTEND;TZID=Europe/Berlin:20241115T180000
DTSTAMP:20260423T203458
CREATED:20240124T102818Z
LAST-MODIFIED:20240124T102818Z
UID:4851-1731688200-1731693600@montessori-lueneburg.de
SUMMARY:Haus der Kinder  - Lichterfest
DESCRIPTION:
URL:https://montessori-lueneburg.de/veranstaltung/haus-der-kinder-lichterfest/
LOCATION:Montessori Haus der Kinder Lüneburg\, Margarete-Endemann-Weg 2/4\, Lüneburg\, 21335\, Deutschland
ORGANIZER;CN="Montessori Haus der Kinder":MAILTO:stefanie.hauf@montessori-lueneburg.de
END:VEVENT
END:VCALENDAR