BEGIN:VCALENDAR
VERSION:2.0
PRODID:-//Montessori Lüneburg - Kinderhaus Schule und Hort - ECPv6.15.20//NONSGML v1.0//EN
CALSCALE:GREGORIAN
METHOD:PUBLISH
X-WR-CALNAME:Montessori Lüneburg - Kinderhaus Schule und Hort
X-ORIGINAL-URL:https://montessori-lueneburg.de
X-WR-CALDESC:Veranstaltungen für Montessori Lüneburg - Kinderhaus Schule und Hort
REFRESH-INTERVAL;VALUE=DURATION:PT1H
X-Robots-Tag:noindex
X-PUBLISHED-TTL:PT1H
BEGIN:VTIMEZONE
TZID:Europe/Berlin
BEGIN:DAYLIGHT
TZOFFSETFROM:+0100
TZOFFSETTO:+0200
TZNAME:CEST
DTSTART:20190331T010000
END:DAYLIGHT
BEGIN:STANDARD
TZOFFSETFROM:+0200
TZOFFSETTO:+0100
TZNAME:CET
DTSTART:20191027T010000
END:STANDARD
BEGIN:DAYLIGHT
TZOFFSETFROM:+0100
TZOFFSETTO:+0200
TZNAME:CEST
DTSTART:20200329T010000
END:DAYLIGHT
BEGIN:STANDARD
TZOFFSETFROM:+0200
TZOFFSETTO:+0100
TZNAME:CET
DTSTART:20201025T010000
END:STANDARD
BEGIN:DAYLIGHT
TZOFFSETFROM:+0100
TZOFFSETTO:+0200
TZNAME:CEST
DTSTART:20210328T010000
END:DAYLIGHT
BEGIN:STANDARD
TZOFFSETFROM:+0200
TZOFFSETTO:+0100
TZNAME:CET
DTSTART:20211031T010000
END:STANDARD
END:VTIMEZONE
BEGIN:VEVENT
DTSTART;TZID=Europe/Berlin:20200426T120000
DTEND;TZID=Europe/Berlin:20200426T150000
DTSTAMP:20260421T105626
CREATED:20191203T204541Z
LAST-MODIFIED:20210630T061028Z
UID:548-1587902400-1587913200@montessori-lueneburg.de
SUMMARY:Entfällt - Flohmarkt Frühjahr 2020
DESCRIPTION:Unseren aktuellen Flohmarkt (Sommer 2021) findest du hier! \n\nDer Flohmarkt am 26. April 2020 konnte leider aufgrund der Coronavirus-Pandemie nicht stattfinden.
URL:https://montessori-lueneburg.de/veranstaltung/flohmarkt-fruehjahr-2020/
LOCATION:Montessori Bildungshaus Lüneburg\, Margarete-Endemann-Weg 2-4\, Lüneburg\, 21335\, Deutschland
END:VEVENT
END:VCALENDAR