BEGIN:VCALENDAR
VERSION:2.0
PRODID:-//Montessori Lüneburg - Kinderhaus Schule und Hort - ECPv6.15.20//NONSGML v1.0//EN
CALSCALE:GREGORIAN
METHOD:PUBLISH
X-ORIGINAL-URL:https://montessori-lueneburg.de
X-WR-CALDESC:Veranstaltungen für Montessori Lüneburg - Kinderhaus Schule und Hort
REFRESH-INTERVAL;VALUE=DURATION:PT1H
X-Robots-Tag:noindex
X-PUBLISHED-TTL:PT1H
BEGIN:VTIMEZONE
TZID:Europe/Berlin
BEGIN:DAYLIGHT
TZOFFSETFROM:+0100
TZOFFSETTO:+0200
TZNAME:CEST
DTSTART:20180325T010000
END:DAYLIGHT
BEGIN:STANDARD
TZOFFSETFROM:+0200
TZOFFSETTO:+0100
TZNAME:CET
DTSTART:20181028T010000
END:STANDARD
BEGIN:DAYLIGHT
TZOFFSETFROM:+0100
TZOFFSETTO:+0200
TZNAME:CEST
DTSTART:20190331T010000
END:DAYLIGHT
BEGIN:STANDARD
TZOFFSETFROM:+0200
TZOFFSETTO:+0100
TZNAME:CET
DTSTART:20191027T010000
END:STANDARD
BEGIN:DAYLIGHT
TZOFFSETFROM:+0100
TZOFFSETTO:+0200
TZNAME:CEST
DTSTART:20200329T010000
END:DAYLIGHT
BEGIN:STANDARD
TZOFFSETFROM:+0200
TZOFFSETTO:+0100
TZNAME:CET
DTSTART:20201025T010000
END:STANDARD
END:VTIMEZONE
BEGIN:VEVENT
DTSTART;TZID=Europe/Berlin:20191026T160000
DTEND;TZID=Europe/Berlin:20191026T190000
DTSTAMP:20260423T195745
CREATED:20190528T074721Z
LAST-MODIFIED:20190528T074721Z
UID:397-1572105600-1572116400@montessori-lueneburg.de
SUMMARY:Tag der offenen Tür 2019
DESCRIPTION:Am Samstag\, dem 26. Oktober 2019\, öffnet das Montessori Bildungshaus wieder seine Türen\, um sich allen Interessierten zu präsentieren. \nIn der Zeit von 14:00 Uhr bis 17:00 Uhr stellen wir Ihnen unser Montessori-Kinderhaus\, unsere Montessori-Schule und unseren Montessori-Hort vor. \nWir freuen uns auf Ihren Besuch!
URL:https://montessori-lueneburg.de/veranstaltung/tag-der-offenen-tuer-2019/
LOCATION:Montessori Bildungshaus Lüneburg\, Margarete-Endemann-Weg 2-4\, Lüneburg\, 21335\, Deutschland
CATEGORIES:Kinderhaus,Schule
END:VEVENT
END:VCALENDAR