BEGIN:VCALENDAR
VERSION:2.0
PRODID:-//Montessori Lüneburg - Kinderhaus Schule und Hort - ECPv6.15.20//NONSGML v1.0//EN
CALSCALE:GREGORIAN
METHOD:PUBLISH
X-ORIGINAL-URL:https://montessori-lueneburg.de
X-WR-CALDESC:Veranstaltungen für Montessori Lüneburg - Kinderhaus Schule und Hort
REFRESH-INTERVAL;VALUE=DURATION:PT1H
X-Robots-Tag:noindex
X-PUBLISHED-TTL:PT1H
BEGIN:VTIMEZONE
TZID:Europe/Berlin
BEGIN:DAYLIGHT
TZOFFSETFROM:+0100
TZOFFSETTO:+0200
TZNAME:CEST
DTSTART:20190331T010000
END:DAYLIGHT
BEGIN:STANDARD
TZOFFSETFROM:+0200
TZOFFSETTO:+0100
TZNAME:CET
DTSTART:20191027T010000
END:STANDARD
BEGIN:DAYLIGHT
TZOFFSETFROM:+0100
TZOFFSETTO:+0200
TZNAME:CEST
DTSTART:20200329T010000
END:DAYLIGHT
BEGIN:STANDARD
TZOFFSETFROM:+0200
TZOFFSETTO:+0100
TZNAME:CET
DTSTART:20201025T010000
END:STANDARD
BEGIN:DAYLIGHT
TZOFFSETFROM:+0100
TZOFFSETTO:+0200
TZNAME:CEST
DTSTART:20210328T010000
END:DAYLIGHT
BEGIN:STANDARD
TZOFFSETFROM:+0200
TZOFFSETTO:+0100
TZNAME:CET
DTSTART:20211031T010000
END:STANDARD
END:VTIMEZONE
BEGIN:VEVENT
DTSTART;TZID=Europe/Berlin:20200124T150000
DTEND;TZID=Europe/Berlin:20200124T170000
DTSTAMP:20260423T200939
CREATED:20191114T135154Z
LAST-MODIFIED:20191114T135154Z
UID:537-1579878000-1579885200@montessori-lueneburg.de
SUMMARY:Info-Nachmittag
DESCRIPTION:Das Montessori-Bildungshaus lädt ein zum Infonachmittag am 24. Januar 2020 von 14:00 bis 16:00 Uhr
URL:https://montessori-lueneburg.de/veranstaltung/info-nachmittag/
LOCATION:Montessori Bildungshaus Lüneburg\, Margarete-Endemann-Weg 2-4\, Lüneburg\, 21335\, Deutschland
END:VEVENT
END:VCALENDAR